Workbook

Sheet Tables
A1: ID | B1: Strand1Criteria1 | C1: Strand1Criteria2 | D1: Strand1Criteria3
A2: 1 | B2: Replace this1 | C2: Replace this1 | D2: Replace this1
A3: 2 | B3: Replace this2 | C3: Replace this2 | D3: Replace this2
A4: 3 | B4: Replace this3 | C4: Replace this3 | D4: Replace this3
A5: 4 | B5: Replace this4 | C5: Replace this4 | D5: Replace this4
A6: 5 | B6: Replace this5 | C6: Replace this5 | D6: Replace this5
A9: ID | B9: Strand2Criteria1 | C9: Strand2Criteria2 | D9: Strand2Criteria3
A10: 1 | B10: Replace this1 | C10: Replace this1 | D10: Replace this1
A11: 2 | B11: Replace this2 | C11: Replace this2 | D11: Replace this2
A12: 3 | B12: Replace this3 | C12: Replace this3 | D12: Replace this3
A13: 4 | B13: Replace this4 | C13: Replace this4 | D13: Replace this4
A14: 5 | B14: Replace this5 | C14: Replace this5 | D14: Replace this5
A17: ID | B17: Strand3Criteria1 | C17: Strand3Criteria2 | D17: Strand3Criteria3
A18: 1 | B18: Replace this1 | C18: Replace this1 | D18: Replace this1
A19: 2 | B19: Replace this2 | C19: Replace this2 | D19: Replace this2
A20: 3 | B20: Replace this3 | C20: Replace this3 | D20: Replace this3
A21: 4 | B21: Replace this4 | C21: Replace this4 | D21: Replace this4
A22: 5 | B22: Replace this5 | C22: Replace this5 | D22: Replace this5
A25: ID | B25: Strand4Criteria1 | C25: Strand4Criteria2 | D25: Strand4Criteria3
A26: 1 | B26: Replace this1 | C26: Replace this1 | D26: Replace this1
A27: 2 | B27: Replace this2 | C27: Replace this2 | D27: Replace this2
A28: 3 | B28: Replace this3 | C28: Replace this3 | D28: Replace this3
A29: 4 | B29: Replace this4 | C29: Replace this4 | D29: Replace this4
B30: Replace this5 | C30: Replace this5 | D30: Replace this5
A33: ID | B33: Strand5Criteria1 | C33: Strand5Criteria12 | D33: Strand5Criteria3
A34: 1 | B34: Replace this1 | C34: Replace this1 | D34: Replace this1
A35: 2 | B35: Replace this2 | C35: Replace this2 | D35: Replace this2
A36: 3 | B36: Replace this3 | C36: Replace this3 | D36: Replace this3
A37: 4 | B37: Replace this4 | C37: Replace this4 | D37: Replace this4
A38: 5 | B38: Replace this5 | C38: Replace this5 | D38: Replace this5
A42: ID | B42: Strand6Criteria1 | C42: Strand6Criteria2 | D42: Strand6Criteria3
A43: 1 | B43: Replace this1 | C43: Replace this1 | D43: Replace this1
A44: 2 | B44: Replace this2 | C44: Replace this2 | D44: Replace this2
A45: 3 | B45: Replace this3 | C45: Replace this3 | D45: Replace this3
A46: 4 | B46: Replace this4 | C46: Replace this4 | D46: Replace this4
A47: 5 | B47: Replace this5 | C47: Replace this5 | D47: Replace this5

Sheet Data
A1: Name | B1: =Strand1[[#Headers],[Strand1Criteria1]] -> Strand1Criteria1 | C1: =Strand1[[#Headers],[Strand1Criteria2]] -> Strand1Criteria2 | D1: =Strand1[[#Headers],[Strand1Criteria3]] -> Strand1Criteria3 | E1: =Strand2[[#Headers],[Strand2Criteria1]] -> Strand2Criteria1 | F1: =Strand2[[#Headers],[Strand2Criteria2]] -> Strand2Criteria2 | G1: =Strand2[[#Headers],[Strand2Criteria3]] -> Strand2Criteria3 | H1: =Strand3[[#Headers],[Strand3Criteria1]] -> Strand3Criteria1 | I1: =Strand3[[#Headers],[Strand3Criteria2]] -> Strand3Criteria2 | J1: =Strand3[[#Headers],[Strand3Criteria3]] -> Strand3Criteria3 | K1: =Strand4[[#Headers],[Strand4Criteria1]] -> Strand4Criteria1 | L1: =Strand4[[#Headers],[Strand4Criteria2]] -> Strand4Criteria2 | M1: =Strand4[[#Headers],[Strand4Criteria3]] -> Strand4Criteria3 | N1: =Strand5[[#Headers],[Strand5Criteria1]] -> Strand5Criteria1 | O1: =Strand5[[#Headers],[Strand5Criteria12]] -> Strand5Criteria12 | P1: =Strand5[[#Headers],[Strand5Criteria3]] -> Strand5Criteria3 | Q1: =Strand6[[#Headers],[Strand6Criteria1]] -> Strand6Criteria1 | R1: =Strand6[[#Headers],[Strand6Criteria2]] -> Strand6Criteria2 | S1: =Strand6[[#Headers],[Strand6Criteria3]] -> Strand6Criteria3 | T1: Comment | U1: Target | V1: Spellings
A2: A | B2: 1 | C2: 2 | D2: 3 | E2: 4 | F2: 5 | G2: 1 | H2: 2 | I2: 3 | J2: 4 | K2: 5 | L2: 1 | M2: 2 | N2: 3 | O2: 4 | P2: 5 | Q2: 1 | R2: 2 | S2: 3 | T2: You can write a commment here. | U2: You can set a target here. | V2: list the spellings here.
A3: B
A4: C
A5: D
A6: E
A7: F
A8: G
A9: H
A10: I
A11: J
A12: K
A13: L
A14: M
... A27: Z

Sheet For Export
A1: =Data!A1 -> Name | B1: =Data!B1 -> Strand1Criteria1 | C1: =Data!C1 -> Strand1Criteria2 | D1: =Data!E1 -> Strand2Criteria1 | E1: =Data!F1 -> Strand2Criteria2 | F1: =Data!G1 -> Strand2Criteria3 | G1: =Data!H1 -> Strand3Criteria1 | H1: =Data!I1 -> Strand3Criteria2 | I1: =Data!J1 -> Strand3Criteria3 | J1: =Data!K1 -> Strand4Criteria1 | K1: =Data!L1 -> Strand4Criteria2 | ... U1: =Data!V1 -> Spellings
A2: =IF(Data!A2 <>"", Data!A2,"") -> A | B2: =IFERROR(INDEX(Strand1[[#Data],[Strand1Criteria1]],MATCH(Data!B2,Strand1[[#Data],[ID]],0)),IF(Data!B2<>0,Data!B2,"")) -> Replace this1 | C2: =IFERROR(INDEX(Strand1[[#Data],[Strand1Criteria2]],MATCH(Data!D2,Strand1[[#Data],[ID]],0)),IF(Data!D2<>0,Data!D2,"")) -> Replace this3 | D2: =IFERROR(INDEX(Strand2[[#Data],[Strand2Criteria1]],MATCH(Data!E2,Strand2[[#Data],[ID]],0)),IF(Data!E2<>0,Data!E2,"")) -> Replace this4 | E2: =IFERROR(INDEX(Strand2[[#Data],[Strand2Criteria2]],MATCH(Data!F2,Strand2[[#Data],[ID]],0)),IF(Data!F2<>0,Data!F2,"")) -> Replace this5 | F2: =IFERROR(INDEX(Strand2[[#Data],[Strand2Criteria3]],MATCH(Data!G2,Strand2[[#Data],[ID]],0)),IF(Data!G2<>0,Data!G2,"")) -> Replace this1 | G2: =IFERROR(INDEX(Strand3[[#Data],[Strand3Criteria1]],MATCH(Data!H2,Strand3[[#Data],[ID]],0)),IF(Data!H2<>0,Data!H2,"")) -> Replace this2 | H2: =IFERROR(INDEX(Strand3[[#Data],[Strand3Criteria2]],MATCH(Data!I2,Strand3[[#Data],[ID]],0)),IF(Data!I2<>0,Data!I2,"")) -> Replace this3 | I2: =IFERROR(INDEX(Strand3[[#Data],[Strand3Criteria3]],MATCH(Data!J2,Strand3[[#Data],[ID]],0)),IF(Data!J2<>0,Data!J2,"")) -> Replace this4 | J2: =IFERROR(INDEX(Strand3[[#Data],[Strand3Criteria3]],MATCH(Data!K2,Strand3[[#Data],[ID]],0)),IF(Data!K2<>0,Data!K2,"")) -> Replace this5 | K2: =IFERROR(INDEX(Strand3[[#Data],[Strand3Criteria3]],MATCH(Data!L2,Strand3[[#Data],[ID]],0)),IF(Data!L2<>0,Data!L2,"")) -> Replace this1 | L2: =IFERROR(INDEX(Strand3[[#Data],[Strand3Criteria3]],MATCH(Data!M2,Strand3[[#Data],[ID]],0)),IF(Data!M2<>0,Data!M2,"")) -> Replace this2 | M2: =IFERROR(INDEX(Strand3[[#Data],[Strand3Criteria3]],MATCH(Data!N2,Strand3[[#Data],[ID]],0)),IF(Data!N2<>0,Data!N2,"")) -> Replace this3 | N2: =IFERROR(INDEX(Strand3[[#Data],[Strand3Criteria3]],MATCH(Data!O2,Strand3[[#Data],[ID]],0)),IF(Data!O2<>0,Data!O2,"")) -> Replace this4 | O2: =IFERROR(INDEX(Strand3[[#Data],[Strand3Criteria3]],MATCH(Data!P2,Strand3[[#Data],[ID]],0)),IF(Data!P2<>0,Data!P2,"")) -> Replace this5 | P2: =IFERROR(INDEX(Strand3[[#Data],[Strand3Criteria3]],MATCH(Data!Q2,Strand3[[#Data],[ID]],0)),IF(Data!Q2<>0,Data!Q2,"")) -> Replace this1 | ... R2: =IFERROR(INDEX(Strand3[[#Data],[Strand3Criteria3]],MATCH(Data!S2,Strand3[[#Data],[ID]],0)),IF(Data!S2<>0,Data!S2,"")) -> Replace this3 | S2: =IF(Data!T2 <>"", Data!T2,"") -> You can write a commment here. | T2: =IF(Data!U2 <>"", Data!U2,"") -> You can set a target here. | U2: =IF(Data!V2 <>"", Data!V2,"") -> list the spellings here.
A3: =IF(Data!A3 <>"", Data!A3,"") -> B | B3: =IFERROR(INDEX(Strand1[[#Data],[Strand1Criteria1]],MATCH(Data!B3,Strand1[[#Data],[ID]],0)),IF(Data!B3<>0,Data!B3,"")) | C3: =IFERROR(INDEX(Strand1[[#Data],[Strand1Criteria2]],MATCH(Data!D3,Strand1[[#Data],[ID]],0)),IF(Data!D3<>0,Data!D3,"")) | D3: =IFERROR(INDEX(Strand2[[#Data],[Strand2Criteria1]],MATCH(Data!E3,Strand2[[#Data],[ID]],0)),IF(Data!E3<>0,Data!E3,"")) | E3: =IFERROR(INDEX(Strand2[[#Data],[Strand2Criteria2]],MATCH(Data!F3,Strand2[[#Data],[ID]],0)),IF(Data!F3<>0,Data!F3,"")) | F3: =IFERROR(INDEX(Strand2[[#Data],[Strand2Criteria3]],MATCH(Data!G3,Strand2[[#Data],[ID]],0)),IF(Data!G3<>0,Data!G3,"")) | G3: =IFERROR(INDEX(Strand3[[#Data],[Strand3Criteria1]],MATCH(Data!H3,Strand3[[#Data],[ID]],0)),IF(Data!H3<>0,Data!H3,"")) | H3: =IFERROR(INDEX(Strand3[[#Data],[Strand3Criteria2]],MATCH(Data!I3,Strand3[[#Data],[ID]],0)),IF(Data!I3<>0,Data!I3,"")) | I3: =IFERROR(INDEX(Strand3[[#Data],[Strand3Criteria3]],MATCH(Data!J3,Strand3[[#Data],[ID]],0)),IF(Data!J3<>0,Data!J3,""))
A4: =IF(Data!A4 <>"", Data!A4,"") -> C | B4: =IFERROR(INDEX(Strand1[[#Data],[Strand1Criteria1]],MATCH(Data!B4,Strand1[[#Data],[ID]],0)),IF(Data!B4<>0,Data!B4,"")) | C4: =IFERROR(INDEX(Strand1[[#Data],[Strand1Criteria2]],MATCH(Data!D4,Strand1[[#Data],[ID]],0)),IF(Data!D4<>0,Data!D4,"")) | D4: =IFERROR(INDEX(Strand2[[#Data],[Strand2Criteria1]],MATCH(Data!E4,Strand2[[#Data],[ID]],0)),IF(Data!E4<>0,Data!E4,"")) | E4: =IFERROR(INDEX(Strand2[[#Data],[Strand2Criteria2]],MATCH(Data!F4,Strand2[[#Data],[ID]],0)),IF(Data!F4<>0,Data!F4,"")) | F4: =IFERROR(INDEX(Strand2[[#Data],[Strand2Criteria3]],MATCH(Data!G4,Strand2[[#Data],[ID]],0)),IF(Data!G4<>0,Data!G4,"")) | G4: =IFERROR(INDEX(Strand3[[#Data],[Strand3Criteria1]],MATCH(Data!H4,Strand3[[#Data],[ID]],0)),IF(Data!H4<>0,Data!H4,"")) | H4: =IFERROR(INDEX(Strand3[[#Data],[Strand3Criteria2]],MATCH(Data!I4,Strand3[[#Data],[ID]],0)),IF(Data!I4<>0,Data!I4,"")) | I4: =IFERROR(INDEX(Strand3[[#Data],[Strand3Criteria3]],MATCH(Data!J4,Strand3[[#Data],[ID]],0)),IF(Data!J4<>0,Data!J4,""))
A5: =IF(Data!A5 <>"", Data!A5,"") -> D | B5: =IFERROR(INDEX(Strand1[[#Data],[Strand1Criteria1]],MATCH(Data!B5,Strand1[[#Data],[ID]],0)),IF(Data!B5<>0,Data!B5,"")) | C5: =IFERROR(INDEX(Strand1[[#Data],[Strand1Criteria2]],MATCH(Data!D5,Strand1[[#Data],[ID]],0)),IF(Data!D5<>0,Data!D5,"")) | D5: =IFERROR(INDEX(Strand2[[#Data],[Strand2Criteria1]],MATCH(Data!E5,Strand2[[#Data],[ID]],0)),IF(Data!E5<>0,Data!E5,"")) | E5: =IFERROR(INDEX(Strand2[[#Data],[Strand2Criteria2]],MATCH(Data!F5,Strand2[[#Data],[ID]],0)),IF(Data!F5<>0,Data!F5,"")) | F5: =IFERROR(INDEX(Strand2[[#Data],[Strand2Criteria3]],MATCH(Data!G5,Strand2[[#Data],[ID]],0)),IF(Data!G5<>0,Data!G5,"")) | G5: =IFERROR(INDEX(Strand3[[#Data],[Strand3Criteria1]],MATCH(Data!H5,Strand3[[#Data],[ID]],0)),IF(Data!H5<>0,Data!H5,"")) | H5: =IFERROR(INDEX(Strand3[[#Data],[Strand3Criteria2]],MATCH(Data!I5,Strand3[[#Data],[ID]],0)),IF(Data!I5<>0,Data!I5,"")) | I5: =IFERROR(INDEX(Strand3[[#Data],[Strand3Criteria3]],MATCH(Data!J5,Strand3[[#Data],[ID]],0)),IF(Data!J5<>0,Data!J5,""))
A6: =IF(Data!A6 <>"", Data!A6,"") -> E | B6: =IFERROR(INDEX(Strand1[[#Data],[Strand1Criteria1]],MATCH(Data!B6,Strand1[[#Data],[ID]],0)),IF(Data!B6<>0,Data!B6,"")) | C6: =IFERROR(INDEX(Strand1[[#Data],[Strand1Criteria2]],MATCH(Data!D6,Strand1[[#Data],[ID]],0)),IF(Data!D6<>0,Data!D6,"")) | D6: =IFERROR(INDEX(Strand2[[#Data],[Strand2Criteria1]],MATCH(Data!E6,Strand2[[#Data],[ID]],0)),IF(Data!E6<>0,Data!E6,"")) | E6: =IFERROR(INDEX(Strand2[[#Data],[Strand2Criteria2]],MATCH(Data!F6,Strand2[[#Data],[ID]],0)),IF(Data!F6<>0,Data!F6,"")) | F6: =IFERROR(INDEX(Strand2[[#Data],[Strand2Criteria3]],MATCH(Data!G6,Strand2[[#Data],[ID]],0)),IF(Data!G6<>0,Data!G6,"")) | G6: =IFERROR(INDEX(Strand3[[#Data],[Strand3Criteria1]],MATCH(Data!H6,Strand3[[#Data],[ID]],0)),IF(Data!H6<>0,Data!H6,"")) | H6: =IFERROR(INDEX(Strand3[[#Data],[Strand3Criteria2]],MATCH(Data!I6,Strand3[[#Data],[ID]],0)),IF(Data!I6<>0,Data!I6,"")) | I6: =IFERROR(INDEX(Strand3[[#Data],[Strand3Criteria3]],MATCH(Data!J6,Strand3[[#Data],[ID]],0)),IF(Data!J6<>0,Data!J6,""))
A7: =IF(Data!A7 <>"", Data!A7,"") -> F | B7: =IFERROR(INDEX(Strand1[[#Data],[Strand1Criteria1]],MATCH(Data!B7,Strand1[[#Data],[ID]],0)),IF(Data!B7<>0,Data!B7,"")) | C7: =IFERROR(INDEX(Strand1[[#Data],[Strand1Criteria2]],MATCH(Data!D7,Strand1[[#Data],[ID]],0)),IF(Data!D7<>0,Data!D7,"")) | D7: =IFERROR(INDEX(Strand2[[#Data],[Strand2Criteria1]],MATCH(Data!E7,Strand2[[#Data],[ID]],0)),IF(Data!E7<>0,Data!E7,"")) | E7: =IFERROR(INDEX(Strand2[[#Data],[Strand2Criteria2]],MATCH(Data!F7,Strand2[[#Data],[ID]],0)),IF(Data!F7<>0,Data!F7,"")) | F7: =IFERROR(INDEX(Strand2[[#Data],[Strand2Criteria3]],MATCH(Data!G7,Strand2[[#Data],[ID]],0)),IF(Data!G7<>0,Data!G7,"")) | G7: =IFERROR(INDEX(Strand3[[#Data],[Strand3Criteria1]],MATCH(Data!H7,Strand3[[#Data],[ID]],0)),IF(Data!H7<>0,Data!H7,"")) | H7: =IFERROR(INDEX(Strand3[[#Data],[Strand3Criteria2]],MATCH(Data!I7,Strand3[[#Data],[ID]],0)),IF(Data!I7<>0,Data!I7,"")) | I7: =IFERROR(INDEX(Strand3[[#Data],[Strand3Criteria3]],MATCH(Data!J7,Strand3[[#Data],[ID]],0)),IF(Data!J7<>0,Data!J7,""))
A8: =IF(Data!A8 <>"", Data!A8,"") -> G | B8: =IFERROR(INDEX(Strand1[[#Data],[Strand1Criteria1]],MATCH(Data!B8,Strand1[[#Data],[ID]],0)),IF(Data!B8<>0,Data!B8,"")) | C8: =IFERROR(INDEX(Strand1[[#Data],[Strand1Criteria2]],MATCH(Data!D8,Strand1[[#Data],[ID]],0)),IF(Data!D8<>0,Data!D8,"")) | D8: =IFERROR(INDEX(Strand2[[#Data],[Strand2Criteria1]],MATCH(Data!E8,Strand2[[#Data],[ID]],0)),IF(Data!E8<>0,Data!E8,"")) | E8: =IFERROR(INDEX(Strand2[[#Data],[Strand2Criteria2]],MATCH(Data!F8,Strand2[[#Data],[ID]],0)),IF(Data!F8<>0,Data!F8,"")) | F8: =IFERROR(INDEX(Strand2[[#Data],[Strand2Criteria3]],MATCH(Data!G8,Strand2[[#Data],[ID]],0)),IF(Data!G8<>0,Data!G8,"")) | G8: =IFERROR(INDEX(Strand3[[#Data],[Strand3Criteria1]],MATCH(Data!H8,Strand3[[#Data],[ID]],0)),IF(Data!H8<>0,Data!H8,"")) | H8: =IFERROR(INDEX(Strand3[[#Data],[Strand3Criteria2]],MATCH(Data!I8,Strand3[[#Data],[ID]],0)),IF(Data!I8<>0,Data!I8,"")) | I8: =IFERROR(INDEX(Strand3[[#Data],[Strand3Criteria3]],MATCH(Data!J8,Strand3[[#Data],[ID]],0)),IF(Data!J8<>0,Data!J8,""))
A9: =IF(Data!A9 <>"", Data!A9,"") -> H | B9: =IFERROR(INDEX(Strand1[[#Data],[Strand1Criteria1]],MATCH(Data!B9,Strand1[[#Data],[ID]],0)),IF(Data!B9<>0,Data!B9,"")) | C9: =IFERROR(INDEX(Strand1[[#Data],[Strand1Criteria2]],MATCH(Data!D9,Strand1[[#Data],[ID]],0)),IF(Data!D9<>0,Data!D9,"")) | D9: =IFERROR(INDEX(Strand2[[#Data],[Strand2Criteria1]],MATCH(Data!E9,Strand2[[#Data],[ID]],0)),IF(Data!E9<>0,Data!E9,"")) | E9: =IFERROR(INDEX(Strand2[[#Data],[Strand2Criteria2]],MATCH(Data!F9,Strand2[[#Data],[ID]],0)),IF(Data!F9<>0,Data!F9,"")) | F9: =IFERROR(INDEX(Strand2[[#Data],[Strand2Criteria3]],MATCH(Data!G9,Strand2[[#Data],[ID]],0)),IF(Data!G9<>0,Data!G9,"")) | G9: =IFERROR(INDEX(Strand3[[#Data],[Strand3Criteria1]],MATCH(Data!H9,Strand3[[#Data],[ID]],0)),IF(Data!H9<>0,Data!H9,"")) | H9: =IFERROR(INDEX(Strand3[[#Data],[Strand3Criteria2]],MATCH(Data!I9,Strand3[[#Data],[ID]],0)),IF(Data!I9<>0,Data!I9,"")) | I9: =IFERROR(INDEX(Strand3[[#Data],[Strand3Criteria3]],MATCH(Data!J9,Strand3[[#Data],[ID]],0)),IF(Data!J9<>0,Data!J9,""))
A10: =IF(Data!A10 <>"", Data!A10,"") -> I | B10: =IFERROR(INDEX(Strand1[[#Data],[Strand1Criteria1]],MATCH(Data!B10,Strand1[[#Data],[ID]],0)),IF(Data!B10<>0,Data!B10,"")) | C10: =IFERROR(INDEX(Strand1[[#Data],[Strand1Criteria2]],MATCH(Data!D10,Strand1[[#Data],[ID]],0)),IF(Data!D10<>0,Data!D10,"")) | D10: =IFERROR(INDEX(Strand2[[#Data],[Strand2Criteria1]],MATCH(Data!E10,Strand2[[#Data],[ID]],0)),IF(Data!E10<>0,Data!E10,"")) | E10: =IFERROR(INDEX(Strand2[[#Data],[Strand2Criteria2]],MATCH(Data!F10,Strand2[[#Data],[ID]],0)),IF(Data!F10<>0,Data!F10,"")) | F10: =IFERROR(INDEX(Strand2[[#Data],[Strand2Criteria3]],MATCH(Data!G10,Strand2[[#Data],[ID]],0)),IF(Data!G10<>0,Data!G10,"")) | G10: =IFERROR(INDEX(Strand3[[#Data],[Strand3Criteria1]],MATCH(Data!H10,Strand3[[#Data],[ID]],0)),IF(Data!H10<>0,Data!H10,"")) | H10: =IFERROR(INDEX(Strand3[[#Data],[Strand3Criteria2]],MATCH(Data!I10,Strand3[[#Data],[ID]],0)),IF(Data!I10<>0,Data!I10,"")) | I10: =IFERROR(INDEX(Strand3[[#Data],[Strand3Criteria3]],MATCH(Data!J10,Strand3[[#Data],[ID]],0)),IF(Data!J10<>0,Data!J10,""))
A11: =IF(Data!A11 <>"", Data!A11,"") -> J | B11: =IFERROR(INDEX(Strand1[[#Data],[Strand1Criteria1]],MATCH(Data!B11,Strand1[[#Data],[ID]],0)),IF(Data!B11<>0,Data!B11,"")) | C11: =IFERROR(INDEX(Strand1[[#Data],[Strand1Criteria2]],MATCH(Data!D11,Strand1[[#Data],[ID]],0)),IF(Data!D11<>0,Data!D11,"")) | D11: =IFERROR(INDEX(Strand2[[#Data],[Strand2Criteria1]],MATCH(Data!E11,Strand2[[#Data],[ID]],0)),IF(Data!E11<>0,Data!E11,"")) | E11: =IFERROR(INDEX(Strand2[[#Data],[Strand2Criteria2]],MATCH(Data!F11,Strand2[[#Data],[ID]],0)),IF(Data!F11<>0,Data!F11,"")) | F11: =IFERROR(INDEX(Strand2[[#Data],[Strand2Criteria3]],MATCH(Data!G11,Strand2[[#Data],[ID]],0)),IF(Data!G11<>0,Data!G11,"")) | G11: =IFERROR(INDEX(Strand3[[#Data],[Strand3Criteria1]],MATCH(Data!H11,Strand3[[#Data],[ID]],0)),IF(Data!H11<>0,Data!H11,"")) | H11: =IFERROR(INDEX(Strand3[[#Data],[Strand3Criteria2]],MATCH(Data!I11,Strand3[[#Data],[ID]],0)),IF(Data!I11<>0,Data!I11,"")) | I11: =IFERROR(INDEX(Strand3[[#Data],[Strand3Criteria3]],MATCH(Data!J11,Strand3[[#Data],[ID]],0)),IF(Data!J11<>0,Data!J11,""))
A12: =IF(Data!A12 <>"", Data!A12,"") -> K | B12: =IFERROR(INDEX(Strand1[[#Data],[Strand1Criteria1]],MATCH(Data!B12,Strand1[[#Data],[ID]],0)),IF(Data!B12<>0,Data!B12,"")) | C12: =IFERROR(INDEX(Strand1[[#Data],[Strand1Criteria2]],MATCH(Data!D12,Strand1[[#Data],[ID]],0)),IF(Data!D12<>0,Data!D12,"")) | D12: =IFERROR(INDEX(Strand2[[#Data],[Strand2Criteria1]],MATCH(Data!E12,Strand2[[#Data],[ID]],0)),IF(Data!E12<>0,Data!E12,"")) | E12: =IFERROR(INDEX(Strand2[[#Data],[Strand2Criteria2]],MATCH(Data!F12,Strand2[[#Data],[ID]],0)),IF(Data!F12<>0,Data!F12,"")) | F12: =IFERROR(INDEX(Strand2[[#Data],[Strand2Criteria3]],MATCH(Data!G12,Strand2[[#Data],[ID]],0)),IF(Data!G12<>0,Data!G12,"")) | G12: =IFERROR(INDEX(Strand3[[#Data],[Strand3Criteria1]],MATCH(Data!H12,Strand3[[#Data],[ID]],0)),IF(Data!H12<>0,Data!H12,"")) | H12: =IFERROR(INDEX(Strand3[[#Data],[Strand3Criteria2]],MATCH(Data!I12,Strand3[[#Data],[ID]],0)),IF(Data!I12<>0,Data!I12,"")) | I12: =IFERROR(INDEX(Strand3[[#Data],[Strand3Criteria3]],MATCH(Data!J12,Strand3[[#Data],[ID]],0)),IF(Data!J12<>0,Data!J12,""))
A13: =IF(Data!A13 <>"", Data!A13,"") -> L | B13: =IFERROR(INDEX(Strand1[[#Data],[Strand1Criteria1]],MATCH(Data!B13,Strand1[[#Data],[ID]],0)),IF(Data!B13<>0,Data!B13,"")) | C13: =IFERROR(INDEX(Strand1[[#Data],[Strand1Criteria2]],MATCH(Data!D13,Strand1[[#Data],[ID]],0)),IF(Data!D13<>0,Data!D13,"")) | D13: =IFERROR(INDEX(Strand2[[#Data],[Strand2Criteria1]],MATCH(Data!E13,Strand2[[#Data],[ID]],0)),IF(Data!E13<>0,Data!E13,"")) | E13: =IFERROR(INDEX(Strand2[[#Data],[Strand2Criteria2]],MATCH(Data!F13,Strand2[[#Data],[ID]],0)),IF(Data!F13<>0,Data!F13,"")) | F13: =IFERROR(INDEX(Strand2[[#Data],[Strand2Criteria3]],MATCH(Data!G13,Strand2[[#Data],[ID]],0)),IF(Data!G13<>0,Data!G13,"")) | G13: =IFERROR(INDEX(Strand3[[#Data],[Strand3Criteria1]],MATCH(Data!H13,Strand3[[#Data],[ID]],0)),IF(Data!H13<>0,Data!H13,"")) | H13: =IFERROR(INDEX(Strand3[[#Data],[Strand3Criteria2]],MATCH(Data!I13,Strand3[[#Data],[ID]],0)),IF(Data!I13<>0,Data!I13,"")) | I13: =IFERROR(INDEX(Strand3[[#Data],[Strand3Criteria3]],MATCH(Data!J13,Strand3[[#Data],[ID]],0)),IF(Data!J13<>0,Data!J13,""))
A14: =IF(Data!A14 <>"", Data!A14,"") -> M | B14: =IFERROR(INDEX(Strand1[[#Data],[Strand1Criteria1]],MATCH(Data!B14,Strand1[[#Data],[ID]],0)),IF(Data!B14<>0,Data!B14,"")) | C14: =IFERROR(INDEX(Strand1[[#Data],[Strand1Criteria2]],MATCH(Data!D14,Strand1[[#Data],[ID]],0)),IF(Data!D14<>0,Data!D14,"")) | D14: =IFERROR(INDEX(Strand2[[#Data],[Strand2Criteria1]],MATCH(Data!E14,Strand2[[#Data],[ID]],0)),IF(Data!E14<>0,Data!E14,"")) | E14: =IFERROR(INDEX(Strand2[[#Data],[Strand2Criteria2]],MATCH(Data!F14,Strand2[[#Data],[ID]],0)),IF(Data!F14<>0,Data!F14,"")) | F14: =IFERROR(INDEX(Strand2[[#Data],[Strand2Criteria3]],MATCH(Data!G14,Strand2[[#Data],[ID]],0)),IF(Data!G14<>0,Data!G14,"")) | G14: =IFERROR(INDEX(Strand3[[#Data],[Strand3Criteria1]],MATCH(Data!H14,Strand3[[#Data],[ID]],0)),IF(Data!H14<>0,Data!H14,"")) | H14: =IFERROR(INDEX(Strand3[[#Data],[Strand3Criteria2]],MATCH(Data!I14,Strand3[[#Data],[ID]],0)),IF(Data!I14<>0,Data!I14,"")) | I14: =IFERROR(INDEX(Strand3[[#Data],[Strand3Criteria3]],MATCH(Data!J14,Strand3[[#Data],[ID]],0)),IF(Data!J14<>0,Data!J14,""))
... A26: =IF(Data!A26 <>"", Data!A26,"") -> Y | B26: =IFERROR(INDEX(Strand1[[#Data],[Strand1Criteria1]],MATCH(Data!B26,Strand1[[#Data],[ID]],0)),IF(Data!B26<>0,Data!B26,"")) | C26: =IFERROR(INDEX(Strand1[[#Data],[Strand1Criteria2]],MATCH(Data!D26,Strand1[[#Data],[ID]],0)),IF(Data!D26<>0,Data!D26,"")) | D26: =IFERROR(INDEX(Strand2[[#Data],[Strand2Criteria1]],MATCH(Data!E26,Strand2[[#Data],[ID]],0)),IF(Data!E26<>0,Data!E26,"")) | E26: =IFERROR(INDEX(Strand2[[#Data],[Strand2Criteria2]],MATCH(Data!F26,Strand2[[#Data],[ID]],0)),IF(Data!F26<>0,Data!F26,"")) | F26: =IFERROR(INDEX(Strand2[[#Data],[Strand2Criteria3]],MATCH(Data!G26,Strand2[[#Data],[ID]],0)),IF(Data!G26<>0,Data!G26,"")) | G26: =IFERROR(INDEX(Strand3[[#Data],[Strand3Criteria1]],MATCH(Data!H26,Strand3[[#Data],[ID]],0)),IF(Data!H26<>0,Data!H26,"")) | H26: =IFERROR(INDEX(Strand3[[#Data],[Strand3Criteria2]],MATCH(Data!I26,Strand3[[#Data],[ID]],0)),IF(Data!I26<>0,Data!I26,"")) | I26: =IFERROR(INDEX(Strand3[[#Data],[Strand3Criteria3]],MATCH(Data!J26,Strand3[[#Data],[ID]],0)),IF(Data!J26<>0,Data!J26,""))
